BEGIN:VCALENDAR
VERSION:2.0
PRODID:-//wp-events-plugin.com//7.2.3.1//EN
BEGIN:VEVENT
UID:51@greenfilmnet.org
DTSTART;VALUE=DATE:20250301
DTEND;VALUE=DATE:20250414
DTSTAMP:20250909T130344Z
URL:https://www.greenfilmnet.org/events/festival-du-film-vert-festival-20t
 h/
SUMMARY:Festival du Film Vert - 20th festival
DESCRIPTION:More information: https://www.greenfilmnet.org/members/festival
 -du-film-vert/info/
CATEGORIES:Festival
END:VEVENT
END:VCALENDAR