BEGIN:VCALENDAR
VERSION:2.0
PRODID:-//wp-events-plugin.com//7.2.3.1//EN
BEGIN:VEVENT
UID:52@greenfilmnet.org
DTSTART;VALUE=DATE:20250701
DTEND;VALUE=DATE:20251016
DTSTAMP:20250908T210616Z
URL:https://www.greenfilmnet.org/events/festival-du-film-vert-call-for-ent
 ries/
SUMMARY:Festival du Film Vert - Call for entries
DESCRIPTION:Call for entries link: https://www.festivaldufilmvert.ch/en/par
 tners/directors
CATEGORIES:Open Call
END:VEVENT
END:VCALENDAR