BEGIN:VCALENDAR
VERSION:2.0
PRODID:-//wp-events-plugin.com//7.2.3.1//EN
BEGIN:VEVENT
UID:32@greenfilmnet.org
DTSTART;VALUE=DATE:20240404
DTEND;VALUE=DATE:20240413
DTSTAMP:20240206T205857Z
URL:https://www.greenfilmnet.org/events/17th-ecozine-film-festival/
SUMMARY:17th Ecozine Film Festival
DESCRIPTION:17th Edition of Ecozine Film Festival.\nSeveral cities in Spain
  host this new edition that will take place from April 4 to 12.
END:VEVENT
END:VCALENDAR